BEGIN:VCALENDAR
VERSION:2.0
PRODID:-//IP.Board Calendar 4.6.9//EN
METHOD:PUBLISH
CALSCALE:GREGORIAN
X-WR-CALNAME:Календарь событий
BEGIN:VTIMEZONE
TZID:Europe/London
TZURL:http://tzurl.org/zoneinfo/Europe/London
X-LIC-LOCATION:Europe/London
BEGIN:DAYLIGHT
TZOFFSETFROM:+0000
TZOFFSETTO:+0100
TZNAME:BST
DTSTART:20130331T020000Z
RRULE:FREQ=YEARLY;BYMONTH=3;BYDAY=-1SU
END:DAYLIGHT
BEGIN:STANDARD
TZOFFSETFROM:+0100
TZOFFSETTO:+0000
TZNAME:GMT
DTSTART:20131027T020000Z
RRULE:FREQ=YEARLY;BYMONTH=10;BYDAY=-1SU
END:STANDARD
END:VTIMEZONE
BEGIN:VEVENT
SUMMARY:Осенний Джиг 2013
DTSTAMP:20130820T083303Z
SEQUENCE:1
UID:2-1-d4fef30149a63604c88bc3f43b1bd0a2@novfishing.ru
ORGANIZER;CN="Ant":info@novfishing.ru
DESCRIPTION:\nОткрытые
	 городские рыболовные с
	оревнования \"Осенний Джиг 201
	3\"\n\n1. Цели и задачи Ту
	рнира: \n1.1. Т
	урнир про
	водится с
	 целью пр
	опаганды
	 любитель
	ского рыбол
	овства как 
	формы массо
	вого активн
	ого и семей
	ного отдыха\, укр
	епления здоров
	ья и дружеских связей 
	участников.\n\n2. Ру
	ководство соре
	внований: \n2.1
	. Руководство и 
	организацию Т
	урнира осущест
	вляют рыбаки-л
	юбители.\n2.2
	. Непосре
	дственная
	 организац
	ия и проведен
	ие турнира возл
	агается на Оргкомитет
	 и Судейскую коллегию.\
	n\n3. Участники турни
	ра:\n3.1. К учас
	тию в ры
	боловном
	 турнире 
	допускают
	ся рыболовы-
	любители опл
	атившие ста
	ртовый взнос
	 (уточняется)
	 рублей.  Ст
	артовый в
	знос оплачивает
	ся по прибытию уча
	стника на место 
	проведения турнира.\n
	\n4. Место и время п
	роведения Турнира:\n4
	.1. Соревнования проводятся в 
	субботу\, 20-21 сентября 2013
	 года.\n4.2. Место провед
	ения:\nМесто сбора пляж С
	КИТА.\n\n5. Сбор учас
	тников турнир
	а:\n5.1. Заезд
	 участн
	иков турнира 
	осуществляется
	 самостоятельно 
	(собственным транспорт
	ом).\n\n6. Размещение н
	а территории Тур
	нира:\n6.1. Участни
	ки приезжают на 
	турнир со своим 
	снаряжением (па
	латка\, спальник
	\, коврик\, эк
	ипировка и друга
	я экипировка для 
	кемпинга и проду
	кты пропитания)\
	n6.2. Уборка м
	усора на месте 
	вашей палатки 
	осуществляется
	 собственными си
	лами.\n6.3 В мом
	ент выезда участ
	ник турнира обя
	зан убрать весь 
	мусор после себ
	я.\n6.4 Въезд а
	втотранспорта у
	частников на пл
	ощадку сбора и 
	регистрации запрещен
	.\n\n7. Участникам со
	ревнований НЕ р
	азрешается:\n7
	.1. Покидать зону 
	соревнований б
	ез согласия судьи
	 — контролера.\n7.2. П
	ринимать постороннюю 
	помощь\, как в ловле\, т
	ак и в выуживании р
	ыбы.\n7.3. Приноси
	ть с собой и переда
	вать в пределах зо
	ны друг другу пойма
	нную рыбу.\n7.4. Ловить 
	рыбу за пределами з
	оны\, запрещается\
	n7.5. Ловить до старта.
	 Ловить после финал
	ьного сигнала ФИНИШ.\
	n7.6. Лица\, опоздав
	шие к старту 
	или к финишу\, авт
	оматически выбыв
	ают из числа участн
	иков турнира.\n\n8
	. Перечень са
	нкций и нарушений\,
	 за которые участ
	ники снимаются с с
	оревнований: \n8
	.1. За подтасовку ит
	огов соревнования\
	, подкладывание ры
	бы.\n8.2. За исполь
	зование снастей\,
	 запрещённых для лю
	бительского лова.\n8.
	3. За намеренное ба
	грение рыбы.\n8.4
	. За неспорт
	ивное повед
	ение\, выр
	ажающееся в
	 грубой неув
	ажительной 
	форме к учас
	тникам соре
	внований\, за
	 нахождение
	 в нетрезво
	м состоян
	ии и совер
	шение дей
	ствий\, о
	скорбл
	яющих обще
	ственную нрав
	ственность и у
	нижающих человечес
	кое достоинство.\n\n9.
	 Правила поведения н
	а Турнире:\n9.1. За
	претить: дебош\,
	 ругань\, выра
	жение неценз
	урной лексикой
	\, самодурство\
	, пьянство и 
	другие необд
	уманные дейст
	вия\, которые 
	влекут за со
	бой причинени
	е ущерба\, мо
	рального\, ма
	териального 
	и физического се
	бе и другим участник
	ам Турнира\, а такж
	е третьим лицам.\
	n9.2. В случае
	 порчи имущ
	ество орган
	изаторов Ту
	рнира или и
	мущества тр
	етьих лиц\,
	 возместить
	 его стоимост
	ь организаторам 
	Турнира или трет
	ьим лицам\, соотв
	етственно.\n9.3.
	 Запрещается любо
	е купание на терр
	итории водоема на
	 время турнира.\n
	\n10.В зачёт пр
	инимается рыба ра
	змером разрешённы
	м к вылову в данной мес
	тности:\n10.1 В зачет принима
	ется:\n- Щука\, длиной не
	 менее 30 см.\n- Окунь\,ч
	ехонь\,без ограничения 
	по размеру.\n- Жерех\, язь\,
	 длиной не менее 28 см.\n-
	 Судак\, длиной не 
	менее 36 см.\nЗ
	амер рыбы 
	производи
	тся от кончика р
	ыла до начала це
	нтрального луча х
	востового плавник
	а.\n10.2 К зачету при
	нимается рыба\, пойм
	анная следующим обр
	азом:\n- крючки во рту 
	рыбы\;\n- крючки 
	в районе голов
	ы рыбы\;\nОстал
	ьная рыба считае
	тся забагренной и
	 к зачету не принима
	ется.\n10.3 Соревн
	ования проходят 
	в личном зачете.\nК
	 зачету принимаются
	 все виды рыб\, но не
	 более 3шт на один вид\,н
	а одного участника. То ес
	ть 3 щуки\, 2 окуня и 3 судака
	 можно\, а вот 3 щуки\, 4
	 окуня и 1 судак не
	льзя!\nПри нали
	чии в лодке бол
	ее одного учас
	тника\, в заче
	т принимает
	ся суммарный улов\
	, вес которого де
	лится на количество у
	частников.\n\n11.Лов рыбы 
	осуществляется:\n11.
	1 Разрешено:\n-Джиг.\n
	-Отводной поводок
	 с одним крючком.
	\n\nЗапрещается:\n-
	использовать cнас
	ть с отводным крючк
	ом(более одного)\n-л
	овля на живца.\n-лов
	ля на дорожку.\n-Отвод
	ной поводок с одним кр
	ючком.\n-Блесна.\n-Дже
	рки.\n-Воблер.\n-Нахлы
	ст на искуственну
	ю приманку.\n11.
	2 У участни
	ка в лодк
	е может 
	находит
	ся неогр
	аниченное коли
	чество собранных
	 снастей оснащён
	ных одной приманк
	ой.\n11.3 Во время ловли 
	расстояние между лодк
	ами не менее 20 метр
	ов.\n11.4 Ловля производи
	тся в 2 тура продолжи
	тельностью 4 часа.\
	n11.5 Ловля прои
	зводится с лодки\,
	 в пределах опреде
	лённой Положением акв
	атории.\n\n12. Меры бе
	зопасности:\n1
	2.1 Организат
	оры турнир
	а не несут
	 ответственность
	 за получения тр
	авм и увечий уча
	стниками турнир
	а.\n12.2 Органи
	заторы т
	урнира н
	е несут ответс
	твенность за с
	охранность иму
	щества участник
	ов турнира.\n12
	.3 Организат
	оры не нес
	ут ответст
	венности 
	за исполь
	зование п
	лавсредств
	\, не зареги
	стрированных
	 в государствен
	ной Инспекции 
	по\nмаломерным
	 судам\, а та
	кже плавсре
	дств\, не 
	оборудов
	анных сред
	ствами обес
	печения безопасно
	сти\n(спасательными
	 кругами\, поясами
	 или жилетами).\
	n12.4 Участни
	ки соревнов
	аний получают пе
	ред стартом устн
	ый инструктаж гла
	вного судьи.\n12
	.5 Все спорт
	смены пере
	д стартом 
	и после оконч
	ания соревнований о
	бязаны отметиться в с
	удейской коллеги\n\n13.Призы:
	\n13.1 Будут награждены \n1 мес
	то\n2 место\n3 место\n13.2 
	Номинации:\nСамая кр
	упная щука: 1-е мес
	то\nСамый крупный окун
	ь 1-е место\nСамый круп
	ный судак 1-е место\n14.
	 Регламент соревнований
	:\n20 сентября пятница\n\
	n17-00 Приезд\, дружеское
	 застолье\, обмен опытом\n
	\n21 сентября суббота\n\n06
	:00 Сбор участников.\n07:3
	0 Построение спортсменов.\
	n07:45 Выдвижение к месту старта.\
	n08:00 Старт 1го тура.\n12:00 Финиш 1г
	о тура.\n12:00-13:00 Взвешиван
	ие уловов.Обеденный Перерыв.
	\n13-00 Старт 2го тура.\n17-00 Финиш 2г
	о тура.\n17-00-17-30 Взвешива
	ние улова и подведение и
	тогов.\n18-00 Награждени
	е победителей. Уха.\n18
	-30 Закрытие соревно
	ваний.\nP.S:Для тех 
	кто собрался с 
	ночевкой при себе 
	иметь посуду\,лож
	ки\,еду\,горючие
	 с расчетом на 
	себя.\n\nОрг
	комитет вп
	раве измен
	ить реглам
	ент в силу неп
	редвиденных обст
	оятельств\, включая погодны
	е условия!\n\nОрганизаторы: An
	t\, Удав\,Victor23\,россом
	аха.\nГлавный Судья Со
	ревнований: Аль с П
	очином.\n\n\nПри по
	ддержке:\n\nГенераль
	ный спонсор соревн
	ований \"Осенний Джиг
	 2013\" Титан СН наход
	ящегося по адресам: г. Велики
	й Новгород\, ул. Германа 35А 
	\,тел:77-21-03\, Новая мельница \,заправ
	ка Титан СН\, тел. 55-90-70. http://www.titan.nov.ru
	/main/\n\n\nРыболовного м
	агазина \"На Крючк
	е\" находящегося 
	по адресам: г. Великий
	 Новгород\, Б.Санкт-Петербургска
	я 130 т.д. \"Феникс\" 2 этаж тел. 90-96-51
	\, Наб.Реки Гзень д.2/26. тел. 90-01-97.\
	n\n\n\n\n\n\n\nРыболовно
	го интернет-маг
	азина \"Весёлый Роджер\" нах
	одящегося по интернет-адресу http://jollyroger.na
	...g=51d2dcbd61c44 \n\n\n\n\n\n\n\nМагазин 
	\"Рыболов\" находящегося по а
	дресам: ул.Псковская д. 15 тел. 33-7
	6-37\,ул. Октябрьская д. 28 тел. 77-31
	-29\, ул. Маловишерская д. 2 тел 70-70-
	07.\n\n\n\n\n\n\nМагазина 
	Сплав.Одежда и 
	снаряжение дл
	я рыбаков\, охотни
	ков и туристов. Сплав - 
	экипируем полностью!!! Адрес: ул.
	 Прусская\, 29\, 2-й этаж тел. +7 (8612) 60-30-02http://ww
	w.splav.ru/\, http://vk.com/bigexp\n\n\n\nМагазин \"
	Рыбомания\" и \"Рыбак\" 
	находящегося по адресам:ул. Пс
	ковская 46. тел. 730051\, ул. Попова 14/32 тел.
	 55-21-11\n\n\n\n\n\nМагазин \"Су
	дачок\" находящегося по адресу:
	 ул. Свободы 25\, ТЦ Барк тел. 68-14-40\n\n\n
DTSTART;VALUE=DATE:20130920
DTEND;VALUE=DATE:20130922
END:VEVENT
END:VCALENDAR
